BEGIN:VCALENDAR
VERSION:2.0
PRODID:-//wp-events-plugin.com//7.2.3.1//EN
BEGIN:VEVENT
UID:52@rejectionistfront.com
DTSTART:20130322T000000Z
DTEND:20130322T000000Z
DTSTAMP:20230302T152730Z
URL:https://rejectionistfront.com/events/university-of-southern-mississipp
 i/
SUMMARY:University Of Southern Mississippi
DESCRIPTION:University Of Southern Mississippi\, Long Beach\, Mississippi M
 arch 22\, 2013
LOCATION:Long Beach\, Long Beach\, Mississippi \, Long Beach\, Mississippi 
 \, United States
X-APPLE-STRUCTURED-LOCATION;VALUE=URI;X-ADDRESS=Long Beach\, Mississippi \,
  Long Beach\, Mississippi \, United States;X-APPLE-RADIUS=100;X-TITLE=Long
  Beach:geo:0,0
END:VEVENT
END:VCALENDAR