BEGIN:VCALENDAR
VERSION:2.0
PRODID:-//wp-events-plugin.com//7.2.3.1//EN
BEGIN:VEVENT
UID:74@rejectionistfront.com
DTSTART:20090728T000000Z
DTEND:20090728T000000Z
DTSTAMP:20230314T141647Z
URL:https://rejectionistfront.com/events/trash/
SUMMARY:Trash
DESCRIPTION:
LOCATION:Brooklyn\, Brooklyn\, New York\, Brooklyn\, New York\, United Stat
 es
X-APPLE-STRUCTURED-LOCATION;VALUE=URI;X-ADDRESS=Brooklyn\, New York\, Brook
 lyn\, New York\, United States;X-APPLE-RADIUS=100;X-TITLE=Brooklyn:geo:0,0
END:VEVENT
END:VCALENDAR