BEGIN:VCALENDAR
VERSION:2.0
PRODID:-//wp-events-plugin.com//7.2.3.1//EN
BEGIN:VEVENT
UID:58@rejectionistfront.com
DTSTART:20130615T000000Z
DTEND:20130615T000000Z
DTSTAMP:20230302T160324Z
URL:https://rejectionistfront.com/events/lights-theatre-2/
SUMMARY:Lights Theatre
DESCRIPTION:Lights Theatre\, Marseille\, France June 15\, 2013
LOCATION:France\, Marseille\, France\, Marseille\, France\, France
X-APPLE-STRUCTURED-LOCATION;VALUE=URI;X-ADDRESS=Marseille\, France\, Marsei
 lle\, France\, France;X-APPLE-RADIUS=100;X-TITLE=France:geo:0,0
END:VEVENT
END:VCALENDAR