BEGIN:VCALENDAR
VERSION:2.0
PRODID:-//wp-events-plugin.com//7.2.3.1//EN
BEGIN:VEVENT
UID:50@rejectionistfront.com
DTSTART:20130319T000000Z
DTEND:20130319T000000Z
DTSTAMP:20230302T152008Z
URL:https://rejectionistfront.com/events/julie-collins-smith-center/
SUMMARY:Julie Collins Smith Center
DESCRIPTION:Julie Collins Smith Center\, Auburn\, Alabama March 19\, 2013
LOCATION:Auburn\, Auburn\, Alabama\, Auburn\, Alabama\, United States
X-APPLE-STRUCTURED-LOCATION;VALUE=URI;X-ADDRESS=Auburn\, Alabama\, Auburn\,
  Alabama\, United States;X-APPLE-RADIUS=100;X-TITLE=Auburn:geo:0,0
END:VEVENT
END:VCALENDAR