BEGIN:VCALENDAR
VERSION:2.0
PRODID:-//wp-events-plugin.com//7.2.3.1//EN
BEGIN:VEVENT
UID:61@rejectionistfront.com
DTSTART:20130921T000000Z
DTEND:20130921T000000Z
DTSTAMP:20230302T161751Z
URL:https://rejectionistfront.com/events/brooktober-festival-brooklyn/
SUMMARY:Brooktober Festival\, Brooklyn
DESCRIPTION:Brooktober Festival\, Brooklyn\, New York September 21\, 2013
LOCATION:New York\, New York\, New York\, New York\, New York\, United Stat
 es
X-APPLE-STRUCTURED-LOCATION;VALUE=URI;X-ADDRESS=New York\, New York\, New Y
 ork\, New York\, United States;X-APPLE-RADIUS=100;X-TITLE=New York:geo:0,0
END:VEVENT
END:VCALENDAR