BEGIN:VCALENDAR
VERSION:2.0
PRODID:-//wp-events-plugin.com//7.2.3.1//EN
BEGIN:VEVENT
UID:32@rejectionistfront.com
DTSTART:20190825T150000Z
DTEND:20190825T150000Z
DTSTAMP:20230314T135135Z
URL:https://rejectionistfront.com/events/bridge-festival/
SUMMARY:Bridge Festival
DESCRIPTION:Bridge Fest\nGreat Music Festival\n\n 	Doors open: 12:00 PM\n\n
 Bridge Festival\nDerby\, England\, GBR
LOCATION:England\, Derby\, England\, United Kingdom\, Derby\, England\, Uni
 ted Kingdom\, England
X-APPLE-STRUCTURED-LOCATION;VALUE=URI;X-ADDRESS=Derby\, England\, United Ki
 ngdom\, Derby\, England\, United Kingdom\, England;X-APPLE-RADIUS=100;X-TI
 TLE=England:geo:0,0
END:VEVENT
END:VCALENDAR